BEGIN:VCALENDAR
PRODID:-//SINGPromos.com//NONSGML v1.0//EN
VERSION:2.0
CALSCALE:GREGORIAN
METHOD:PUBLISH
X-WR-CALNAME:SINGPromos.com
X-ORIGINAL-URL:https://singpromos.com
X-WR-CALDESC:Events for SINGPromos.com
BEGIN:VEVENT
DTSTART:20160709T000000
DTEND:20160731T235900
DTSTAMP:20260420T030233
CREATED:20160709T192049
LAST-MODIFIED:20160709T192215
UID:183544@https://singpromos.com
SUMMARY:Milk & Honey: 1-for-1 Affogato Petit Parfait at Marina Square from 9 - 31 Jul 2016
DESCRIPTION:Are you a coffee addict? Then you may want to try Milk & Honey's Affogato Petit Parfait featuring swirls of rich and nutritious yogurt + a shot of hot espresso + their handcrafted coffee daquoise!. For more information, visit [ https://singpromos.com/dining-restaurants-food/milk-honey-1-for-1-affogato-petit-parfait-at-marina-square-from-9-31-jul-2016-183544/ ]. 
LOCATION:039594
URL:https://singpromos.com/dining-restaurants-food/milk-honey-1-for-1-affogato-petit-parfait-at-marina-square-from-9-31-jul-2016-183544/
END:VEVENT
END:VCALENDAR