BEGIN:VCALENDAR
PRODID:-//SINGPromos.com//NONSGML v1.0//EN
VERSION:2.0
CALSCALE:GREGORIAN
METHOD:PUBLISH
X-WR-CALNAME:SINGPromos.com
X-ORIGINAL-URL:https://singpromos.com
X-WR-CALDESC:Events for SINGPromos.com
BEGIN:VEVENT
DTSTART:20160713T000000
DTEND:20160714T235900
DTSTAMP:20260420T001544
CREATED:20160713T135813
LAST-MODIFIED:20160713T140433
UID:183766@https://singpromos.com
SUMMARY:Amazon UK: 48% Off Braun Series 9 9040s Wet & Dry Electric Shaver 24hr Deal from 13 - 14 Jul 2016
DESCRIPTION:Braun Series 9 the comfortable electric shaver. Proven on 3 day beards. The intelligent SyncroSonic technology delivers 40000 cross-cutting actions per minute for an thorough shave and skin comfort.. For more information, visit [ https://singpromos.com/personal-care/amazon-uk-48-off-braun-series-9-9040s-wet-dry-electric-shaver-from-13-14-jul-2016-183766/ ]. 
LOCATION:
URL:https://singpromos.com/personal-care/amazon-uk-48-off-braun-series-9-9040s-wet-dry-electric-shaver-from-13-14-jul-2016-183766/
END:VEVENT
END:VCALENDAR