BEGIN:VCALENDAR
PRODID:-//SINGPromos.com//NONSGML v1.0//EN
VERSION:2.0
CALSCALE:GREGORIAN
METHOD:PUBLISH
X-WR-CALNAME:SINGPromos.com
X-ORIGINAL-URL:https://singpromos.com
X-WR-CALDESC:Events for SINGPromos.com
BEGIN:VEVENT
DTSTART:20160718T000000
DTEND:20160731T235900
DTSTAMP:20260420T232526
CREATED:20160718T013745
LAST-MODIFIED:20160718T013835
UID:184123@https://singpromos.com
SUMMARY:Air Asia: Fr $3* Travel Great Promo Fares 18 - 31 Jul 2016
DESCRIPTION:Air Asia's latest promotion features base fares from $3 to Bali, Bandung, Bangkok, Penang, Phuket, Seoul, Osaka and many more. For more information, visit [ https://singpromos.com/airlines-flights/air-asia-fr-3-travel-great-promo-fares-18-31-jul-2016-184123/ ]. 
LOCATION:
URL:https://singpromos.com/airlines-flights/air-asia-fr-3-travel-great-promo-fares-18-31-jul-2016-184123/
END:VEVENT
END:VCALENDAR