BEGIN:VCALENDAR
PRODID:-//SINGPromos.com//NONSGML v1.0//EN
VERSION:2.0
CALSCALE:GREGORIAN
METHOD:PUBLISH
X-WR-CALNAME:SINGPromos.com
X-ORIGINAL-URL:https://singpromos.com
X-WR-CALDESC:Events for SINGPromos.com
BEGIN:VEVENT
DTSTART:20160719T000000
DTEND:20160723T235900
DTSTAMP:20260420T021752
CREATED:20160720T075809
LAST-MODIFIED:20160720T010159
UID:184269@https://singpromos.com
SUMMARY:77th Street: Up To 80% Off Closing Down Sale at AMK Hub from 19 - 23 Jul 2016
DESCRIPTION:77th Street's last day of operations at AMK Hub, #02-52 is this Saturday, 23 July 2016. Hurry down and grab products at up to 80% OFF!. For more information, visit [ https://singpromos.com/warehouse-sales/77th-street-up-to-80-off-closing-down-sale-at-amk-hub-from-19-23-jul-2016-184269/ ]. 
LOCATION:569933
URL:https://singpromos.com/warehouse-sales/77th-street-up-to-80-off-closing-down-sale-at-amk-hub-from-19-23-jul-2016-184269/
END:VEVENT
END:VCALENDAR