BEGIN:VCALENDAR
PRODID:-//SINGPromos.com//NONSGML v1.0//EN
VERSION:2.0
CALSCALE:GREGORIAN
METHOD:PUBLISH
X-WR-CALNAME:SINGPromos.com
X-ORIGINAL-URL:https://singpromos.com
X-WR-CALDESC:Events for SINGPromos.com
BEGIN:VEVENT
DTSTART:20160721T000000
DTEND:20160724T235900
DTSTAMP:20260422T082145
CREATED:20160720T153615
LAST-MODIFIED:20160720T143502
UID:184284@https://singpromos.com
SUMMARY:Dynasty Travel & Trafalgar Travel: Travel Fair at Raffles City from 21 - 24 Jul 2016
DESCRIPTION:Dynasty Travel and Trafalgar Travel will be having a Travel Fair at Raffles City Level 1 from 21 - 24 July 2016. HSBC Credit Card Exclusive: Charge to your HSBC credit card and redeem 24" / 28" / 24" Exclusive Luggage. For more information, visit [ https://singpromos.com/happenings/dynasty-travel-trafalgar-travel-fair-at-raffles-city-from-21-24-jul-2016-184284/ ]. 
LOCATION:179103
URL:https://singpromos.com/happenings/dynasty-travel-trafalgar-travel-fair-at-raffles-city-from-21-24-jul-2016-184284/
END:VEVENT
END:VCALENDAR