BEGIN:VCALENDAR
PRODID:-//SINGPromos.com//NONSGML v1.0//EN
VERSION:2.0
CALSCALE:GREGORIAN
METHOD:PUBLISH
X-WR-CALNAME:SINGPromos.com
X-ORIGINAL-URL:https://singpromos.com
X-WR-CALDESC:Events for SINGPromos.com
BEGIN:VEVENT
DTSTART:20160720T000000
DTEND:20160731T235900
DTSTAMP:20260420T023737
CREATED:20160720T181744
LAST-MODIFIED:20160720T181754
UID:184341@https://singpromos.com
SUMMARY:Suntec City Mall: Free $5 E-Voucher for New Suntec Rewards PAssion Cardmembers from 20 - 31 Jul 2016
DESCRIPTION:Sign up as a Suntec Rewards member (free membership) and get a free $5 e-voucher till 31 July 2016. Exclusively for PAssion cardmembers. For more information, visit [ https://singpromos.com/shopping-malls/suntec-city-mall-free-5-e-voucher-for-new-suntec-rewards-passion-cardmembers-from-20-31-jul-2016-184341/ ]. 
LOCATION:038983
URL:https://singpromos.com/shopping-malls/suntec-city-mall-free-5-e-voucher-for-new-suntec-rewards-passion-cardmembers-from-20-31-jul-2016-184341/
END:VEVENT
END:VCALENDAR