BEGIN:VCALENDAR
PRODID:-//SINGPromos.com//NONSGML v1.0//EN
VERSION:2.0
CALSCALE:GREGORIAN
METHOD:PUBLISH
X-WR-CALNAME:SINGPromos.com
X-ORIGINAL-URL:https://singpromos.com
X-WR-CALDESC:Events for SINGPromos.com
BEGIN:VEVENT
DTSTART:20160721T000000
DTEND:20161120T235900
DTSTAMP:20260420T191416
CREATED:20160721T154231
LAST-MODIFIED:20160721T151654
UID:184439@https://singpromos.com
SUMMARY:Dunkin' Donuts: $8.50 (U.P. $10.30) for 6 Donuts Coupon Deal from 21 Jul - 20 Nov 2016
DESCRIPTION:Enjoy six regular donuts for only $8.50 (u.p. $10.30) now till 20 Nov 2016. Get Dunkin' at any Dunkin' donuts outlet (except Changi Airport Transit). For more information, visit [ https://singpromos.com/dining-restaurants-food/dunkin-donuts-8-50-u-p-10-30-for-6-donuts-coupon-deal-from-21-jul-20-nov-2016-184439/ ]. 
LOCATION:
URL:https://singpromos.com/dining-restaurants-food/dunkin-donuts-8-50-u-p-10-30-for-6-donuts-coupon-deal-from-21-jul-20-nov-2016-184439/
END:VEVENT
END:VCALENDAR