BEGIN:VCALENDAR
PRODID:-//SINGPromos.com//NONSGML v1.0//EN
VERSION:2.0
CALSCALE:GREGORIAN
METHOD:PUBLISH
X-WR-CALNAME:SINGPromos.com
X-ORIGINAL-URL:https://singpromos.com
X-WR-CALDESC:Events for SINGPromos.com
BEGIN:VEVENT
DTSTART:20160701T000000
DTEND:20161130T235900
DTSTAMP:20260422T082324
CREATED:20160721T180340
LAST-MODIFIED:20160721T180340
UID:184470@https://singpromos.com
SUMMARY:Tony Roma's: Buy 2 Get 1 Free, 20% Off & More NDP Coupon Deals fom 1 Jul - 30 Nov 2016
DESCRIPTION:Enjoy discounts at Tony Roma's with these NDP coupons, valid till 30 November. Print and present to redeem. For more information, visit [ https://singpromos.com/dining-restaurants-food/tony-romas-buy-2-get-1-free-20-off-more-ndp-coupon-deals-fom-1-jul-30-nov-2016-184470/ ]. 
LOCATION:
URL:https://singpromos.com/dining-restaurants-food/tony-romas-buy-2-get-1-free-20-off-more-ndp-coupon-deals-fom-1-jul-30-nov-2016-184470/
END:VEVENT
END:VCALENDAR