BEGIN:VCALENDAR
PRODID:-//SINGPromos.com//NONSGML v1.0//EN
VERSION:2.0
CALSCALE:GREGORIAN
METHOD:PUBLISH
X-WR-CALNAME:SINGPromos.com
X-ORIGINAL-URL:https://singpromos.com
X-WR-CALDESC:Events for SINGPromos.com
BEGIN:VEVENT
DTSTART:20160725T000000
DTEND:20160731T235900
DTSTAMP:20260420T232627
CREATED:20160725T010706
LAST-MODIFIED:20160725T010706
UID:184614@https://singpromos.com
SUMMARY:Air Asia: Fares fr $4* to over 60 Destinations from 25 - 31 Jul 2016
DESCRIPTION:Be a travel junkie and #TravelGr8 with Air Asia's latest promotion featuring base fares from $4 to Bandung, Jakarta, Kota Kinabalu, Pattaya, Penang and many more. Travel from now till 3 January 2017. For more information, visit [ https://singpromos.com/airlines-flights/air-asia-fares-fr-4-to-over-60-destinations-from-25-31-jul-2016-184614/ ]. 
LOCATION:
URL:https://singpromos.com/airlines-flights/air-asia-fares-fr-4-to-over-60-destinations-from-25-31-jul-2016-184614/
END:VEVENT
END:VCALENDAR