BEGIN:VCALENDAR
PRODID:-//SINGPromos.com//NONSGML v1.0//EN
VERSION:2.0
CALSCALE:GREGORIAN
METHOD:PUBLISH
X-WR-CALNAME:SINGPromos.com
X-ORIGINAL-URL:https://singpromos.com
X-WR-CALDESC:Events for SINGPromos.com
BEGIN:VEVENT
DTSTART:20160725T000000
DTEND:20160930T235900
DTSTAMP:20260422T080715
CREATED:20160725T140140
LAST-MODIFIED:20160725T165702
UID:184637@https://singpromos.com
SUMMARY:ANZ: Apply for Optimum World Card & Get 24" Luggage + $100 Cash Rebate from 25 Jul - 30 Sep 2016
DESCRIPTION:ANZ's Optimum World MasterCard Credit Card provides 5% cash rebate on Dining & Leisure, Travel, Shopping or Groceries. No limit on your cash rebate earnings. No minimum spend. No cap on total cash rebate earned all year round. For more information, visit [ https://singpromos.com/banks-credit-cards/anz-apply-for-optimum-world-card-get-24-luggage-100-cash-rebate-from-25-jul-30-sep-2016-184637/ ]. 
LOCATION:
URL:https://singpromos.com/banks-credit-cards/anz-apply-for-optimum-world-card-get-24-luggage-100-cash-rebate-from-25-jul-30-sep-2016-184637/
END:VEVENT
END:VCALENDAR