BEGIN:VCALENDAR
PRODID:-//SINGPromos.com//NONSGML v1.0//EN
VERSION:2.0
CALSCALE:GREGORIAN
METHOD:PUBLISH
X-WR-CALNAME:SINGPromos.com
X-ORIGINAL-URL:https://singpromos.com
X-WR-CALDESC:Events for SINGPromos.com
BEGIN:VEVENT
DTSTART:20111109T000000
DTEND:20111231T235900
DTSTAMP:20260420T005559
CREATED:20111110T030006
LAST-MODIFIED:20111110T143140
UID:18469@https://singpromos.com
SUMMARY:Cafe Cartel 1-for-1 Pasta Deal 9 Nov - 31 Dec 2011
DESCRIPTION:All Pasta Lovers out there, listen up! The Cafe Cartel's  1-for-1 Pasta is now on! Available on Weekdays, 2pm to 6pm only. Not valid on public holidays.. For more information, visit [ https://singpromos.com/dining-restaurants-food/cafe-cartel-1-for-1-pasta-deal-9-nov-2011-18469/ ]. 
LOCATION:
URL:https://singpromos.com/dining-restaurants-food/cafe-cartel-1-for-1-pasta-deal-9-nov-2011-18469/
END:VEVENT
END:VCALENDAR