BEGIN:VCALENDAR
PRODID:-//SINGPromos.com//NONSGML v1.0//EN
VERSION:2.0
CALSCALE:GREGORIAN
METHOD:PUBLISH
X-WR-CALNAME:SINGPromos.com
X-ORIGINAL-URL:https://singpromos.com
X-WR-CALDESC:Events for SINGPromos.com
BEGIN:VEVENT
DTSTART:20160726T000000
DTEND:20160726T235900
DTSTAMP:20260422T082132
CREATED:20160726T120402
LAST-MODIFIED:20160727T000258
UID:184698@https://singpromos.com
SUMMARY:Groupon: 10% OFF ALL Goods Deals NO Min Spend 24hr Coupon Code on 26 Jul 2016
DESCRIPTION:Get 10% off ALL goods deals with the promo code below at checkout at Groupon Singapore. The promo code is valid on goods deals only.. For more information, visit [ https://singpromos.com/department-stores/groupon-10-off-all-goods-deals-no-min-spend-24hr-coupon-code-on-26-jul-2016-184698/ ]. 
LOCATION:
URL:https://singpromos.com/department-stores/groupon-10-off-all-goods-deals-no-min-spend-24hr-coupon-code-on-26-jul-2016-184698/
END:VEVENT
END:VCALENDAR