BEGIN:VCALENDAR
PRODID:-//SINGPromos.com//NONSGML v1.0//EN
VERSION:2.0
CALSCALE:GREGORIAN
METHOD:PUBLISH
X-WR-CALNAME:SINGPromos.com
X-ORIGINAL-URL:https://singpromos.com
X-WR-CALDESC:Events for SINGPromos.com
BEGIN:VEVENT
DTSTART:20160726T000000
DTEND:20160821T235900
DTSTAMP:20260422T082138
CREATED:20160726T141549
LAST-MODIFIED:20160726T141549
UID:184703@https://singpromos.com
SUMMARY:Resorts World Sentosa: Durian Fest 2016 - All-You-Can-Eat Durian Buffet Tickets Now Available
DESCRIPTION:Which is the king of Kings? Is it the Mao Shan Wang, Red Prawn or perhaps Jin Feng? It's time to move past their thorny facade, and let the creamy flesh do the talking.. For more information, visit [ https://singpromos.com/happenings/resorts-world-sentosa-durian-fest-2016-all-you-can-eat-durian-buffet-tickets-now-available-184703/ ]. 
LOCATION:098269
URL:https://singpromos.com/happenings/resorts-world-sentosa-durian-fest-2016-all-you-can-eat-durian-buffet-tickets-now-available-184703/
END:VEVENT
END:VCALENDAR