BEGIN:VCALENDAR
PRODID:-//SINGPromos.com//NONSGML v1.0//EN
VERSION:2.0
CALSCALE:GREGORIAN
METHOD:PUBLISH
X-WR-CALNAME:SINGPromos.com
X-ORIGINAL-URL:https://singpromos.com
X-WR-CALDESC:Events for SINGPromos.com
BEGIN:VEVENT
DTSTART:20160730T000000
DTEND:20160731T235900
DTSTAMP:20260420T023814
CREATED:20160728T030247
LAST-MODIFIED:20160727T234537
UID:184827@https://singpromos.com
SUMMARY:Dynasty Travel: Travel Carnival Fair at Suntec City Mall from 30 - 31 Jul 2016
DESCRIPTION:Come on down this weekend to Suntec City West Atrium (Outside H&M) to Dynasty's Travel Carnival for your year end holiday featuring holiday promotions up for grab. For more information, visit [ https://singpromos.com/vacations/dynasty-travel-travel-carnival-fair-at-suntec-city-mall-from-30-31-jul-2016-184827/ ]. 
LOCATION:038983
URL:https://singpromos.com/vacations/dynasty-travel-travel-carnival-fair-at-suntec-city-mall-from-30-31-jul-2016-184827/
END:VEVENT
END:VCALENDAR