BEGIN:VCALENDAR
PRODID:-//SINGPromos.com//NONSGML v1.0//EN
VERSION:2.0
CALSCALE:GREGORIAN
METHOD:PUBLISH
X-WR-CALNAME:SINGPromos.com
X-ORIGINAL-URL:https://singpromos.com
X-WR-CALDESC:Events for SINGPromos.com
BEGIN:VEVENT
DTSTART:20160801T000000
DTEND:20160803T235900
DTSTAMP:20260420T021715
CREATED:20160801T112456
LAST-MODIFIED:20160801T112709
UID:185184@https://singpromos.com
SUMMARY:Zuji: 72hr All Destinations Flights Sale - Singapore Airlines, Malaysia Airlines & Korean Air from 1 - 3 Aug 2016
DESCRIPTION:Zuji is having a 72hr Singapore Airlines, Malaysia Airlines & Korean Air flights sale for ALL destinations till 3 August. You can stack this promotion with up to $100 rebate Mastercard promotion. For more information, visit [ https://singpromos.com/airlines-flights/zuji-72hr-all-destinations-flights-sale-singapore-airlines-malaysia-airlines-korean-air-from-1-3-aug-2016-185184/ ]. 
LOCATION:
URL:https://singpromos.com/airlines-flights/zuji-72hr-all-destinations-flights-sale-singapore-airlines-malaysia-airlines-korean-air-from-1-3-aug-2016-185184/
END:VEVENT
END:VCALENDAR