BEGIN:VCALENDAR
PRODID:-//SINGPromos.com//NONSGML v1.0//EN
VERSION:2.0
CALSCALE:GREGORIAN
METHOD:PUBLISH
X-WR-CALNAME:SINGPromos.com
X-ORIGINAL-URL:https://singpromos.com
X-WR-CALDESC:Events for SINGPromos.com
BEGIN:VEVENT
DTSTART:20160801T000000
DTEND:20160802T235900
DTSTAMP:20260422T204218
CREATED:20160801T174826
LAST-MODIFIED:20160801T175116
UID:185223@https://singpromos.com
SUMMARY:Amazon: Up to 40% Off Timberland Kid's Boots from 1 - 2 Aug 2016
DESCRIPTION:Save up to 40% Off Timberland Kid's Boots with Amazon's 24hr Gold Box deal of the day at www.amazon.com until 2 August, 3pm. For more information, visit [ https://singpromos.com/footwear/amazon-up-to-40-off-timberland-kids-boots-from-1-2-aug-2016-185223/ ]. 
LOCATION:
URL:https://singpromos.com/footwear/amazon-up-to-40-off-timberland-kids-boots-from-1-2-aug-2016-185223/
END:VEVENT
END:VCALENDAR