BEGIN:VCALENDAR
PRODID:-//SINGPromos.com//NONSGML v1.0//EN
VERSION:2.0
CALSCALE:GREGORIAN
METHOD:PUBLISH
X-WR-CALNAME:SINGPromos.com
X-ORIGINAL-URL:https://singpromos.com
X-WR-CALDESC:Events for SINGPromos.com
BEGIN:VEVENT
DTSTART:20160811T000000
DTEND:20160915T235900
DTSTAMP:20260422T212627
CREATED:20160804T220839
LAST-MODIFIED:20160804T220839
UID:185542@https://singpromos.com
SUMMARY:M1: Singapore Marriott Tang Plaza Hotel Mooncakes Offers from 11 Aug - 15 Sep 2016
DESCRIPTION:Indulge in these exclusive mooncake offers from Singapore Marriott Tang Plaza Hotel.. For more information, visit [ https://singpromos.com/dining-restaurants-food/m1-singapore-marriott-tang-plaza-hotel-mooncakes-offers-from-11-aug-15-sep-2016-185542/ ]. 
LOCATION:
URL:https://singpromos.com/dining-restaurants-food/m1-singapore-marriott-tang-plaza-hotel-mooncakes-offers-from-11-aug-15-sep-2016-185542/
END:VEVENT
END:VCALENDAR