BEGIN:VCALENDAR
PRODID:-//SINGPromos.com//NONSGML v1.0//EN
VERSION:2.0
CALSCALE:GREGORIAN
METHOD:PUBLISH
X-WR-CALNAME:SINGPromos.com
X-ORIGINAL-URL:https://singpromos.com
X-WR-CALDESC:Events for SINGPromos.com
BEGIN:VEVENT
DTSTART:20160808T000000
DTEND:20160814T235900
DTSTAMP:20260420T232524
CREATED:20160808T004839
LAST-MODIFIED:20160808T135935
UID:185777@https://singpromos.com
SUMMARY:Air Asia: Fares fr $5* to over 45 Destinations from 8 - 14 Aug 2016
DESCRIPTION:Travel great to Malaysia and other international destinations with Air Asia' latest promotion featuring base fares from $5 to Kuching, Kuala Lumpur, Kota Kinabalu, Langkawi, Miri, Penang and more. For more information, visit [ https://singpromos.com/airlines-flights/air-asia-fares-fr-5-to-over-45-destinations-from-8-14-aug-2016-185777/ ]. 
LOCATION:
URL:https://singpromos.com/airlines-flights/air-asia-fares-fr-5-to-over-45-destinations-from-8-14-aug-2016-185777/
END:VEVENT
END:VCALENDAR