BEGIN:VCALENDAR
PRODID:-//SINGPromos.com//NONSGML v1.0//EN
VERSION:2.0
CALSCALE:GREGORIAN
METHOD:PUBLISH
X-WR-CALNAME:SINGPromos.com
X-ORIGINAL-URL:https://singpromos.com
X-WR-CALDESC:Events for SINGPromos.com
BEGIN:VEVENT
DTSTART:20160812T000000
DTEND:20160814T235900
DTSTAMP:20260420T055453
CREATED:20160810T165813
LAST-MODIFIED:20160812T010904
UID:185941@https://singpromos.com
SUMMARY:Dynasty Travel: Travel Fair at Changi City Point from 12 - 14 Aug 2016
DESCRIPTION:Come on down this weekend to Changi City Point to Dynasty's Travel fair for your year end holiday. Find them at these 2 locations within Changi City Point. For more information, visit [ https://singpromos.com/happenings/dynasty-travel-travel-fair-at-changi-city-point-from-12-14-aug-2016-185941/ ]. 
LOCATION:486038
URL:https://singpromos.com/happenings/dynasty-travel-travel-fair-at-changi-city-point-from-12-14-aug-2016-185941/
END:VEVENT
END:VCALENDAR