BEGIN:VCALENDAR
PRODID:-//SINGPromos.com//NONSGML v1.0//EN
VERSION:2.0
CALSCALE:GREGORIAN
METHOD:PUBLISH
X-WR-CALNAME:SINGPromos.com
X-ORIGINAL-URL:https://singpromos.com
X-WR-CALDESC:Events for SINGPromos.com
BEGIN:VEVENT
DTSTART:20160815T000000
DTEND:20160821T235900
DTSTAMP:20260420T232525
CREATED:20160815T012631
LAST-MODIFIED:20160815T012631
UID:186187@https://singpromos.com
SUMMARY:Air Asia: Fares fr $5* to over 60 Destinations from 15 - 21 Aug 2016
DESCRIPTION:Travel to Asia & Australia with Air Asia from $5*! Seats are limited and may not be available on all flights during public holidays, school breaks and weekends.. For more information, visit [ https://singpromos.com/airlines-flights/air-asia-fares-fr-5-to-over-60-destinations-from-15-21-aug-2016-186187/ ]. 
LOCATION:
URL:https://singpromos.com/airlines-flights/air-asia-fares-fr-5-to-over-60-destinations-from-15-21-aug-2016-186187/
END:VEVENT
END:VCALENDAR