BEGIN:VCALENDAR
PRODID:-//SINGPromos.com//NONSGML v1.0//EN
VERSION:2.0
CALSCALE:GREGORIAN
METHOD:PUBLISH
X-WR-CALNAME:SINGPromos.com
X-ORIGINAL-URL:https://singpromos.com
X-WR-CALDESC:Events for SINGPromos.com
BEGIN:VEVENT
DTSTART:20160819T000000
DTEND:20160820T235900
DTSTAMP:20260420T001451
CREATED:20160819T090354
LAST-MODIFIED:20160819T090354
UID:186539@https://singpromos.com
SUMMARY:Amazon UK: 61% Off Braun Silk Epil 9 Wet & Dry Cordless Epilator 24hr Deal from 19 - 20 Aug 2016
DESCRIPTION:Get the Braun Silk Epil 9 9-561 Wet & Dry Cordless Epilator at 61% Off with Amazon UK's 24hr Gold Box deal of the day. Features an enhanced standard of epilation with a wide epilation head for faster results & MicroGrip tweezer technology.. For more information, visit [ https://singpromos.com/personal-care/amazon-uk-61-off-braun-silk-epil-9-wet-dry-cordless-epilator-24hr-deal-from-19-20-aug-2016-186539/ ]. 
LOCATION:
URL:https://singpromos.com/personal-care/amazon-uk-61-off-braun-silk-epil-9-wet-dry-cordless-epilator-24hr-deal-from-19-20-aug-2016-186539/
END:VEVENT
END:VCALENDAR