BEGIN:VCALENDAR
PRODID:-//SINGPromos.com//NONSGML v1.0//EN
VERSION:2.0
CALSCALE:GREGORIAN
METHOD:PUBLISH
X-WR-CALNAME:SINGPromos.com
X-ORIGINAL-URL:https://singpromos.com
X-WR-CALDESC:Events for SINGPromos.com
BEGIN:VEVENT
DTSTART:20160819T000000
DTEND:20160821T235900
DTSTAMP:20260422T082306
CREATED:20160819T165305
LAST-MODIFIED:20160819T165305
UID:186572@https://singpromos.com
SUMMARY:Robinsons: Spend $120 & Receive $12 Voucher from 19 - 21 Aug 2016
DESCRIPTION:Until Sunday Aug 21 all shoppers receive: $50 voucher with $300 nett spend | $30 voucher with $200 nett spend | $12 voucher with $120 nett spend. For more information, visit [ https://singpromos.com/department-stores/robinsons-spend-120-receive-12-voucher-from-19-21-aug-2016-186572/ ]. 
LOCATION:
URL:https://singpromos.com/department-stores/robinsons-spend-120-receive-12-voucher-from-19-21-aug-2016-186572/
END:VEVENT
END:VCALENDAR