BEGIN:VCALENDAR
PRODID:-//SINGPromos.com//NONSGML v1.0//EN
VERSION:2.0
CALSCALE:GREGORIAN
METHOD:PUBLISH
X-WR-CALNAME:SINGPromos.com
X-ORIGINAL-URL:https://singpromos.com
X-WR-CALDESC:Events for SINGPromos.com
BEGIN:VEVENT
DTSTART:20160822T000000
DTEND:20160828T235900
DTSTAMP:20260422T212636
CREATED:20160822T113545
LAST-MODIFIED:20160823T004519
UID:186722@https://singpromos.com
SUMMARY:M1: Samsung Roadshow at Bugis Junction from 22 - 28 Aug 2016
DESCRIPTION:Jump into a world of fun with Samsung smartphones and upsized data. Join M1 at Bugis Fountain from 22 to 28 August, 11am to 9pm, for exclusive roadshow deals!. For more information, visit [ https://singpromos.com/happenings/m1-samsung-roadshow-at-bugis-junction-from-22-28-aug-2016-186722/ ]. 
LOCATION:188021
URL:https://singpromos.com/happenings/m1-samsung-roadshow-at-bugis-junction-from-22-28-aug-2016-186722/
END:VEVENT
END:VCALENDAR