BEGIN:VCALENDAR
PRODID:-//SINGPromos.com//NONSGML v1.0//EN
VERSION:2.0
CALSCALE:GREGORIAN
METHOD:PUBLISH
X-WR-CALNAME:SINGPromos.com
X-ORIGINAL-URL:https://singpromos.com
X-WR-CALDESC:Events for SINGPromos.com
BEGIN:VEVENT
DTSTART:20160822T000000
DTEND:20160925T235900
DTSTAMP:20260422T082233
CREATED:20160825T150355
LAST-MODIFIED:20160825T150710
UID:186877@https://singpromos.com
SUMMARY:IKEA: Special Product Deals & Offers from 22 Aug - 25 Sep 2016
DESCRIPTION:Enjoy discounts you can take advantage of as a member of IKEA Family (membership is free). If you are not a member, sign-up for free as an IKEA FAMILY member in the store to get your Temporary Card before making your purchase.. For more information, visit [ https://singpromos.com/department-stores/ikea-special-product-deals-offers-from-22-aug-25-sep-2016-186877/ ]. 
LOCATION:
URL:https://singpromos.com/department-stores/ikea-special-product-deals-offers-from-22-aug-25-sep-2016-186877/
END:VEVENT
END:VCALENDAR