BEGIN:VCALENDAR
PRODID:-//SINGPromos.com//NONSGML v1.0//EN
VERSION:2.0
CALSCALE:GREGORIAN
METHOD:PUBLISH
X-WR-CALNAME:SINGPromos.com
X-ORIGINAL-URL:https://singpromos.com
X-WR-CALDESC:Events for SINGPromos.com
BEGIN:VEVENT
DTSTART:20160826T000000
DTEND:20160826T235900
DTSTAMP:20260422T082303
CREATED:20160826T172311
LAST-MODIFIED:20160826T172311
UID:187086@https://singpromos.com
SUMMARY:Comfort Taxis: Booking Fee Waiver Promo Code on 26 Aug 2016
DESCRIPTION:Get your booking fee waived when you book via ComfortDelGro Taxi Booking App and use promo code "HAZEFREE". For more information, visit [ https://singpromos.com/motor-vehicles/comfort-taxis-booking-fee-waiver-promo-code-on-26-aug-2016-187086/ ]. 
LOCATION:
URL:https://singpromos.com/motor-vehicles/comfort-taxis-booking-fee-waiver-promo-code-on-26-aug-2016-187086/
END:VEVENT
END:VCALENDAR