BEGIN:VCALENDAR
PRODID:-//SINGPromos.com//NONSGML v1.0//EN
VERSION:2.0
CALSCALE:GREGORIAN
METHOD:PUBLISH
X-WR-CALNAME:SINGPromos.com
X-ORIGINAL-URL:https://singpromos.com
X-WR-CALDESC:Events for SINGPromos.com
BEGIN:VEVENT
DTSTART:20160827T000000
DTEND:20160828T235900
DTSTAMP:20260420T052603
CREATED:20160827T010051
LAST-MODIFIED:20160827T010051
UID:187132@https://singpromos.com
SUMMARY:Groupon: 8% OFF ALL Goods Deals NO Min Spend Promo Coupon Code from 27 - 28 Aug 2016
DESCRIPTION:Get 8% off ALL goods deals with the promo code below at checkout at Groupon Singapore. The promo code is valid on goods deals only.. For more information, visit [ https://singpromos.com/department-stores/groupon-8-off-all-goods-deals-no-min-spend-promo-coupon-code-from-27-28-aug-2016-187132/ ]. 
LOCATION:
URL:https://singpromos.com/department-stores/groupon-8-off-all-goods-deals-no-min-spend-promo-coupon-code-from-27-28-aug-2016-187132/
END:VEVENT
END:VCALENDAR