BEGIN:VCALENDAR
PRODID:-//SINGPromos.com//NONSGML v1.0//EN
VERSION:2.0
CALSCALE:GREGORIAN
METHOD:PUBLISH
X-WR-CALNAME:SINGPromos.com
X-ORIGINAL-URL:https://singpromos.com
X-WR-CALDESC:Events for SINGPromos.com
BEGIN:VEVENT
DTSTART:20160824T000000
DTEND:20160904T235900
DTSTAMP:20260420T023735
CREATED:20160827T012439
LAST-MODIFIED:20160827T012439
UID:187134@https://singpromos.com
SUMMARY:Liv Activ: End Season Sale - 20% Off Storewide & More from 24 Aug - 4 Sep 2016
DESCRIPTION:Liv Activ Active Gear is having their End Season Sale. From now till 4 September, get great buys with 20% OFF STOREWIDE on regular-priced items, UP TO 50% OFF past season merchandise and 30% off regular-priced The North Face Equipment!*. For more information, visit [ https://singpromos.com/fashion-accessories/liv-activ-end-season-sale-20-off-storewide-more-from-24-aug-4-sep-2016-187134/ ]. 
LOCATION:
URL:https://singpromos.com/fashion-accessories/liv-activ-end-season-sale-20-off-storewide-more-from-24-aug-4-sep-2016-187134/
END:VEVENT
END:VCALENDAR