BEGIN:VCALENDAR
PRODID:-//SINGPromos.com//NONSGML v1.0//EN
VERSION:2.0
CALSCALE:GREGORIAN
METHOD:PUBLISH
X-WR-CALNAME:SINGPromos.com
X-ORIGINAL-URL:https://singpromos.com
X-WR-CALDESC:Events for SINGPromos.com
BEGIN:VEVENT
DTSTART:20160827T000000
DTEND:20160829T235900
DTSTAMP:20260420T224715
CREATED:20160827T142034
LAST-MODIFIED:20160827T142210
UID:187162@https://singpromos.com
SUMMARY:Courts: Up to $70 Off Selected Products & More Discount Coupon Promotion Code from 27 - 29 Aug 2016
DESCRIPTION:Here are some Courts coupon codes you can use to get Up to $70 Off Selected Products discount off at the Courts online store. Min spend applies.. For more information, visit [ https://singpromos.com/department-stores/courts-up-to-70-off-selected-products-more-discount-coupon-promotion-code-from-27-29-aug-2016-187162/ ]. 
LOCATION:
URL:https://singpromos.com/department-stores/courts-up-to-70-off-selected-products-more-discount-coupon-promotion-code-from-27-29-aug-2016-187162/
END:VEVENT
END:VCALENDAR