BEGIN:VCALENDAR
PRODID:-//SINGPromos.com//NONSGML v1.0//EN
VERSION:2.0
CALSCALE:GREGORIAN
METHOD:PUBLISH
X-WR-CALNAME:SINGPromos.com
X-ORIGINAL-URL:https://singpromos.com
X-WR-CALDESC:Events for SINGPromos.com
BEGIN:VEVENT
DTSTART:20111112T000000
DTEND:20111118T235900
DTSTAMP:20260422T081649
CREATED:20111113T213724
LAST-MODIFIED:20111113T213724
UID:18780@https://singpromos.com
SUMMARY:Starhub Mobile Phones, Cable TV & Mobile/Home Broadband Offers 12 - 18 Nov 2011
DESCRIPTION:Here is Starhub's latest mobile smartphones, tablets, home/cable/fibre broadband and cable TV promotions and special offers, presumably valid till 18 Nov 2011. Visit Starhub's roadshows at Tampines One, Level 1 Atrium, Suntect Hall 404 and West Mall this weekend from 11am to 9pm. For more information, visit [ https://singpromos.com/telecoms/starhub-mobile-phones-cable-tv-mobilehome-broadband-offers-12-18-nov-2011-18780/ ]. 
LOCATION:
URL:https://singpromos.com/telecoms/starhub-mobile-phones-cable-tv-mobilehome-broadband-offers-12-18-nov-2011-18780/
END:VEVENT
END:VCALENDAR