BEGIN:VCALENDAR
PRODID:-//SINGPromos.com//NONSGML v1.0//EN
VERSION:2.0
CALSCALE:GREGORIAN
METHOD:PUBLISH
X-WR-CALNAME:SINGPromos.com
X-ORIGINAL-URL:https://singpromos.com
X-WR-CALDESC:Events for SINGPromos.com
BEGIN:VEVENT
DTSTART:20160907T000000
DTEND:20161031T235900
DTSTAMP:20260422T210938
CREATED:20160907T112933
LAST-MODIFIED:20161101T113844
UID:187822@https://singpromos.com
SUMMARY:(Over 7000 Sold) Paradise Dynasty: $28.80 for $50 Cash Voucher for Xiao Long Bao, Dim Sum & More at 7 Outlets from 7 Sep 2016
DESCRIPTION:Paradise Dynasty: $28.80 for $50 Cash Voucher for Xiao Long Bao, Dim Sum, La Mian, Drinks, & More at 7 Outlets. Prices displayed inclusive of GST and service charge. Award-winning dining concept from local restaurant chain Paradise Group.. For more information, visit [ https://singpromos.com/dining-restaurants-food/paradise-dynasty-28-80-for-50-cash-voucher-for-xiao-long-bao-dim-sum-more-at-7-outlets-from-7-sep-2016-187822/ ]. 
LOCATION:
URL:https://singpromos.com/dining-restaurants-food/paradise-dynasty-28-80-for-50-cash-voucher-for-xiao-long-bao-dim-sum-more-at-7-outlets-from-7-sep-2016-187822/
END:VEVENT
END:VCALENDAR