BEGIN:VCALENDAR
PRODID:-//SINGPromos.com//NONSGML v1.0//EN
VERSION:2.0
CALSCALE:GREGORIAN
METHOD:PUBLISH
X-WR-CALNAME:SINGPromos.com
X-ORIGINAL-URL:https://singpromos.com
X-WR-CALDESC:Events for SINGPromos.com
BEGIN:VEVENT
DTSTART:20161001T000000
DTEND:20161002T235900
DTSTAMP:20260422T082314
CREATED:20160909T163041
LAST-MODIFIED:20160917T141353
UID:188003@https://singpromos.com
SUMMARY:IKEA: Green Life at Home Event with 40 Exciting Deals from 1 - 2 Oct 2016
DESCRIPTION:IKEA will be having a Green Life at Home event on 1 October 2016 from 10am - 10pm, exclusively for IKEA FAMILY and smales members!. For more information, visit [ https://singpromos.com/department-stores/ikea-green-life-home-event-on-1-oct-2016-188003/ ]. 
LOCATION:
URL:https://singpromos.com/department-stores/ikea-green-life-home-event-on-1-oct-2016-188003/
END:VEVENT
END:VCALENDAR