BEGIN:VCALENDAR
PRODID:-//SINGPromos.com//NONSGML v1.0//EN
VERSION:2.0
CALSCALE:GREGORIAN
METHOD:PUBLISH
X-WR-CALNAME:SINGPromos.com
X-ORIGINAL-URL:https://singpromos.com
X-WR-CALDESC:Events for SINGPromos.com
BEGIN:VEVENT
DTSTART:20160913T000000
DTEND:20160914T235900
DTSTAMP:20260420T052613
CREATED:20160913T002453
LAST-MODIFIED:20160913T002453
UID:188172@https://singpromos.com
SUMMARY:Groupon: 8% OFF ALL Goods Deals NO Min Spend Promo Coupon Code from 13 - 14 Sep 2016
DESCRIPTION:Get 8% off ALL goods deals with the promo code below at checkout at Groupon Singapore. The promo code is valid on goods deals only.. For more information, visit [ https://singpromos.com/department-stores/groupon-8-off-all-goods-deals-no-min-spend-promo-coupon-code-from-13-14-sep-2016-188172/ ]. 
LOCATION:
URL:https://singpromos.com/department-stores/groupon-8-off-all-goods-deals-no-min-spend-promo-coupon-code-from-13-14-sep-2016-188172/
END:VEVENT
END:VCALENDAR