BEGIN:VCALENDAR
PRODID:-//SINGPromos.com//NONSGML v1.0//EN
VERSION:2.0
CALSCALE:GREGORIAN
METHOD:PUBLISH
X-WR-CALNAME:SINGPromos.com
X-ORIGINAL-URL:https://singpromos.com
X-WR-CALDESC:Events for SINGPromos.com
BEGIN:VEVENT
DTSTART:20160916T000000
DTEND:20160918T235900
DTSTAMP:20260422T082311
CREATED:20160914T155656
LAST-MODIFIED:20160914T140005
UID:188241@https://singpromos.com
SUMMARY:Esprit: 25% Off Storewide at Isetan Scotts from 16 - 18 Sep 2016
DESCRIPTION:For 3 days, Esprit will be having 25% off storewide, exclusively just for Isetan Private Sale! Available at Isetan Scotts only, Level 2, 16th - 18th Sept.. For more information, visit [ https://singpromos.com/fashion-accessories/esprit-25-off-storewide-at-isetan-scotts-from-16-18-sep-2016-188241/ ]. 
LOCATION:238868
URL:https://singpromos.com/fashion-accessories/esprit-25-off-storewide-at-isetan-scotts-from-16-18-sep-2016-188241/
END:VEVENT
END:VCALENDAR