BEGIN:VCALENDAR
PRODID:-//SINGPromos.com//NONSGML v1.0//EN
VERSION:2.0
CALSCALE:GREGORIAN
METHOD:PUBLISH
X-WR-CALNAME:SINGPromos.com
X-ORIGINAL-URL:https://singpromos.com
X-WR-CALDESC:Events for SINGPromos.com
BEGIN:VEVENT
DTSTART:20160915T000000
DTEND:20160925T235900
DTSTAMP:20260422T082322
CREATED:20160915T143910
LAST-MODIFIED:20160915T143910
UID:188325@https://singpromos.com
SUMMARY:Esprit: $20 to $50 Off Reg-Priced Items Online Promo from 15 - 25 Sep 2016
DESCRIPTION:Get $20 to $50 Off regular priced items - Womens, Mens, Kids and more - for a limited time. Discount will be automatically applied at the checkout after you have created and logged in to your Esprit Friends account. Membership is free. For more information, visit [ https://singpromos.com/fashion-accessories/esprit-20-to-50-off-reg-priced-items-online-promo-from-15-25-sep-2016-188325/ ]. 
LOCATION:
URL:https://singpromos.com/fashion-accessories/esprit-20-to-50-off-reg-priced-items-online-promo-from-15-25-sep-2016-188325/
END:VEVENT
END:VCALENDAR