BEGIN:VCALENDAR
PRODID:-//SINGPromos.com//NONSGML v1.0//EN
VERSION:2.0
CALSCALE:GREGORIAN
METHOD:PUBLISH
X-WR-CALNAME:SINGPromos.com
X-ORIGINAL-URL:https://singpromos.com
X-WR-CALDESC:Events for SINGPromos.com
BEGIN:VEVENT
DTSTART:20160916T000000
DTEND:20160918T235900
DTSTAMP:20260422T082309
CREATED:20160916T041306
LAST-MODIFIED:20160916T012122
UID:188361@https://singpromos.com
SUMMARY:FairPrice: 3-Day Deals - Ferrero Rocher, Norway Salmon & More from 16 - 18 Sep 2016
DESCRIPTION:Fairprice's latest 3-day offers features the Ferrero Collection 24-piece pack at $13.50 (usual $17.95), Norway fresh whole salmon (small) at $1.35 per 100g (usual $1.69) and more. For more information, visit [ https://singpromos.com/dining-restaurants-food/fairprice-3-day-deals-ferrero-rocher-norway-salmon-more-from-16-18-sep-2016-188361/ ]. 
LOCATION:
URL:https://singpromos.com/dining-restaurants-food/fairprice-3-day-deals-ferrero-rocher-norway-salmon-more-from-16-18-sep-2016-188361/
END:VEVENT
END:VCALENDAR