BEGIN:VCALENDAR
PRODID:-//SINGPromos.com//NONSGML v1.0//EN
VERSION:2.0
CALSCALE:GREGORIAN
METHOD:PUBLISH
X-WR-CALNAME:SINGPromos.com
X-ORIGINAL-URL:https://singpromos.com
X-WR-CALDESC:Events for SINGPromos.com
BEGIN:VEVENT
DTSTART:20160916T000000
DTEND:20160929T235900
DTSTAMP:20260422T082130
CREATED:20160916T181713
LAST-MODIFIED:20160917T124446
UID:188403@https://singpromos.com
SUMMARY:Scanpan: 35% Off Reg-Priced Items & More at Tangs from 16 - 29 Sep 2016
DESCRIPTION:SCANPAN is offering 35% off regular-priced items at their pop-up event at TANGS at Tang Plaza (B1) or Tangs at VivoCity (L2) from now till 29 September.. For more information, visit [ https://singpromos.com/warehouse-sales/scanpan-35-off-reg-priced-items-more-at-tangs-from-16-29-sep-2016-188403/ ]. 
LOCATION:238864
URL:https://singpromos.com/warehouse-sales/scanpan-35-off-reg-priced-items-more-at-tangs-from-16-29-sep-2016-188403/
END:VEVENT
END:VCALENDAR