BEGIN:VCALENDAR
PRODID:-//SINGPromos.com//NONSGML v1.0//EN
VERSION:2.0
CALSCALE:GREGORIAN
METHOD:PUBLISH
X-WR-CALNAME:SINGPromos.com
X-ORIGINAL-URL:https://singpromos.com
X-WR-CALDESC:Events for SINGPromos.com
BEGIN:VEVENT
DTSTART:20160917T000000
DTEND:20160918T235900
DTSTAMP:20260422T082310
CREATED:20160917T121855
LAST-MODIFIED:20160917T121855
UID:188430@https://singpromos.com
SUMMARY:Amazon UK: 24hr Deal - 69% Off Philips AquaTouch S5420/06 Wet & Dry Men's Electric Shaver from 17 - 18 Sep 2016
DESCRIPTION:Grab the Philips AquaTouch S5420/06, Wet and Dry Men's Electric Shaver with SmartClick Precision Trimmer at 69% off. The Aquatouch shaver protects your skin while you enjoy a refreshing shave. #1 Best Seller in Men's Electric Rotary Shavers. For more information, visit [ https://singpromos.com/personal-care/amazon-uk-24hr-deal-69-off-philips-aquatouch-s542006-wet-dry-mens-electric-shaver-from-17-18-sep-2016-188430/ ]. 
LOCATION:
URL:https://singpromos.com/personal-care/amazon-uk-24hr-deal-69-off-philips-aquatouch-s542006-wet-dry-mens-electric-shaver-from-17-18-sep-2016-188430/
END:VEVENT
END:VCALENDAR