BEGIN:VCALENDAR
PRODID:-//SINGPromos.com//NONSGML v1.0//EN
VERSION:2.0
CALSCALE:GREGORIAN
METHOD:PUBLISH
X-WR-CALNAME:SINGPromos.com
X-ORIGINAL-URL:https://singpromos.com
X-WR-CALDESC:Events for SINGPromos.com
BEGIN:VEVENT
DTSTART:20160919T000000
DTEND:20160925T235900
DTSTAMP:20260422T082304
CREATED:20160918T160828
LAST-MODIFIED:20160922T155929
UID:188463@https://singpromos.com
SUMMARY:Royal Caribbean: Roadshow at Vivocity from 19 - 25 Sep 2016
DESCRIPTION:Royal Caribbean will be having a roadshow at Vivocity Level 1 East Boulevard from 19 Sep to 25 Sep, 10am to 10pm. Cruise from $999 (Balcony). For more information, visit [ https://singpromos.com/happenings/royal-caribbean-roadshow-at-vivocity-from-19-25-sep-2016-188463/ ]. 
LOCATION:098585
URL:https://singpromos.com/happenings/royal-caribbean-roadshow-at-vivocity-from-19-25-sep-2016-188463/
END:VEVENT
END:VCALENDAR