BEGIN:VCALENDAR
PRODID:-//SINGPromos.com//NONSGML v1.0//EN
VERSION:2.0
CALSCALE:GREGORIAN
METHOD:PUBLISH
X-WR-CALNAME:SINGPromos.com
X-ORIGINAL-URL:https://singpromos.com
X-WR-CALDESC:Events for SINGPromos.com
BEGIN:VEVENT
DTSTART:20160919T000000
DTEND:20160923T235900
DTSTAMP:20260422T082315
CREATED:20160918T190440
LAST-MODIFIED:20160918T210925
UID:188468@https://singpromos.com
SUMMARY:HoneyCreme: Buy Milo Dino Ice Cream & Get Plain Milo Free from 19 - 23 Sep 2016
DESCRIPTION:Purchase a Milo Dino and enjoy a Plain Milo on the house at HoneyCreme from 19th Sep Mon to 23rd Sep Fri.. For more information, visit [ https://singpromos.com/dining-restaurants-food/honeycreme-buy-milo-dino-ice-cream-get-plain-milo-free-from-19-23-sep-2016-188468/ ]. 
LOCATION:
URL:https://singpromos.com/dining-restaurants-food/honeycreme-buy-milo-dino-ice-cream-get-plain-milo-free-from-19-23-sep-2016-188468/
END:VEVENT
END:VCALENDAR