BEGIN:VCALENDAR
PRODID:-//SINGPromos.com//NONSGML v1.0//EN
VERSION:2.0
CALSCALE:GREGORIAN
METHOD:PUBLISH
X-WR-CALNAME:SINGPromos.com
X-ORIGINAL-URL:https://singpromos.com
X-WR-CALDESC:Events for SINGPromos.com
BEGIN:VEVENT
DTSTART:20160919T000000
DTEND:20160920T235900
DTSTAMP:20260420T001445
CREATED:20160919T112413
LAST-MODIFIED:20160919T121108
UID:188476@https://singpromos.com
SUMMARY:Amazon UK: 24hr Deal - 53% Off Braun Silk Epil 9 Wet & Dry Cordless Epilator from 19 - 20 Sep 2016
DESCRIPTION:Get the Braun Silk Epil 9 9-561 Wet & Dry Cordless Epilator at 53% Off with Amazon UK's 24hr Gold Box deal of the day. Features an enhanced standard of epilation with a wide epilation head for faster results & MicroGrip tweezer technology.. For more information, visit [ https://singpromos.com/personal-care/amazon-uk-24hr-deal-53-off-braun-silk-epil-9-wet-dry-cordless-epilator-from-19-20-sep-2016-188476/ ]. 
LOCATION:
URL:https://singpromos.com/personal-care/amazon-uk-24hr-deal-53-off-braun-silk-epil-9-wet-dry-cordless-epilator-from-19-20-sep-2016-188476/
END:VEVENT
END:VCALENDAR