BEGIN:VCALENDAR
PRODID:-//SINGPromos.com//NONSGML v1.0//EN
VERSION:2.0
CALSCALE:GREGORIAN
METHOD:PUBLISH
X-WR-CALNAME:SINGPromos.com
X-ORIGINAL-URL:https://singpromos.com
X-WR-CALDESC:Events for SINGPromos.com
BEGIN:VEVENT
DTSTART:20160923T000000
DTEND:20160925T235900
DTSTAMP:20260422T203240
CREATED:20160920T120337
LAST-MODIFIED:20160920T150802
UID:188513@https://singpromos.com
SUMMARY:IT Expo w/ Up to 80% Off Happening at Singapore Expo from 23 - 25 Sep 2016
DESCRIPTION:IT Expo will be having its next Electronic Fair show at Singapore Expo Hall 6 from 23 to 25 September, 11am - 9pm. Shoppers can expect to find a wide range of electronics deals being cleared at the Electronics Overstock Sale at low prices. For more information, visit [ https://singpromos.com/warehouse-sales/it-expo-w-up-to-80-off-happening-at-singapore-expo-from-23-25-sep-2016-188513/ ]. 
LOCATION:486150
URL:https://singpromos.com/warehouse-sales/it-expo-w-up-to-80-off-happening-at-singapore-expo-from-23-25-sep-2016-188513/
END:VEVENT
END:VCALENDAR