BEGIN:VCALENDAR
PRODID:-//SINGPromos.com//NONSGML v1.0//EN
VERSION:2.0
CALSCALE:GREGORIAN
METHOD:PUBLISH
X-WR-CALNAME:SINGPromos.com
X-ORIGINAL-URL:https://singpromos.com
X-WR-CALDESC:Events for SINGPromos.com
BEGIN:VEVENT
DTSTART:20160924T000000
DTEND:20160925T235900
DTSTAMP:20260420T001544
CREATED:20160924T110634
LAST-MODIFIED:20160924T110634
UID:188770@https://singpromos.com
SUMMARY:Amazon UK: 24hr Deal - 67% Off Braun Series 3 3040 Men's Electric Foil Shaver Wet/Dry from 24 - 25 Sep 2016
DESCRIPTION:Get the Braun Series 3 3040 Men's Electric Foil Shaver Wet/Dry at 67% off. With MicroComb technology the Series 3 catches and feeds more hair into the cutting parts, for a faster shave than ever before. #1 Best Seller in Men's Electric Foil Shavers.. For more information, visit [ https://singpromos.com/personal-care/amazon-uk-24hr-deal-67-off-braun-series-3-3040-mens-electric-foil-shaver-wetdry-from-24-25-sep-2016-188770/ ]. 
LOCATION:
URL:https://singpromos.com/personal-care/amazon-uk-24hr-deal-67-off-braun-series-3-3040-mens-electric-foil-shaver-wetdry-from-24-25-sep-2016-188770/
END:VEVENT
END:VCALENDAR