BEGIN:VCALENDAR
PRODID:-//SINGPromos.com//NONSGML v1.0//EN
VERSION:2.0
CALSCALE:GREGORIAN
METHOD:PUBLISH
X-WR-CALNAME:SINGPromos.com
X-ORIGINAL-URL:https://singpromos.com
X-WR-CALDESC:Events for SINGPromos.com
BEGIN:VEVENT
DTSTART:20160926T000000
DTEND:20161002T235900
DTSTAMP:20260422T082319
CREATED:20160926T044441
LAST-MODIFIED:20160926T004926
UID:188823@https://singpromos.com
SUMMARY:Robinsons Travel Fair at Jem from 26 Sep - 2 Oct 2016
DESCRIPTION:Robinsons is having a travel fair at Jem atrium basement 1 from now till 2 October 2016. Get a free CAT Neck Pillow* with minimum $100 nett spend in a single receipt on VIP/CAT/National Geographic/Merrell products. For more information, visit [ https://singpromos.com/warehouse-sales/robinsons-travel-fair-at-jem-from-26-sep-2-oct-2016-188823/ ]. 
LOCATION:608549
URL:https://singpromos.com/warehouse-sales/robinsons-travel-fair-at-jem-from-26-sep-2-oct-2016-188823/
END:VEVENT
END:VCALENDAR