BEGIN:VCALENDAR
PRODID:-//SINGPromos.com//NONSGML v1.0//EN
VERSION:2.0
CALSCALE:GREGORIAN
METHOD:PUBLISH
X-WR-CALNAME:SINGPromos.com
X-ORIGINAL-URL:https://singpromos.com
X-WR-CALDESC:Events for SINGPromos.com
BEGIN:VEVENT
DTSTART:20160927T000000
DTEND:20160927T235900
DTSTAMP:20260420T023813
CREATED:20160927T114443
LAST-MODIFIED:20160927T114443
UID:188899@https://singpromos.com
SUMMARY:La Senza: 1-Day Flash Sale - 80% off 2nd Item on 27 Sep 2016
DESCRIPTION:Enjoy 80% off your 2nd item at La Senza today, 27 September. Valid for today only at all La Senza stores.. For more information, visit [ https://singpromos.com/fashion-accessories/la-senza-1-day-flash-sale-80-off-2nd-item-on-27-sep-2016-188899/ ]. 
LOCATION:
URL:https://singpromos.com/fashion-accessories/la-senza-1-day-flash-sale-80-off-2nd-item-on-27-sep-2016-188899/
END:VEVENT
END:VCALENDAR