BEGIN:VCALENDAR
PRODID:-//SINGPromos.com//NONSGML v1.0//EN
VERSION:2.0
CALSCALE:GREGORIAN
METHOD:PUBLISH
X-WR-CALNAME:SINGPromos.com
X-ORIGINAL-URL:https://singpromos.com
X-WR-CALDESC:Events for SINGPromos.com
BEGIN:VEVENT
DTSTART:20161004T000000
DTEND:20161005T235900
DTSTAMP:20260420T052615
CREATED:20161004T044420
LAST-MODIFIED:20161004T004447
UID:189259@https://singpromos.com
SUMMARY:Groupon: 5% to 25% OFF ALL Beauty, Leisure & Services, Dining Deals (NO Min Spend) Promo Code from 4 - 5 Oct 2016
DESCRIPTION:Get 5% to 25% off ALL Beauty, Leisure & Services, Dining deals with the promo code below at checkout at Groupon Singapore. Valid only for Beauty, Leisure & Services, Dining deals (Beauty 25%, Leisure & Services 15%, Dining 5%). For more information, visit [ https://singpromos.com/department-stores/groupon-5-to-25-off-all-beauty-leisure-services-dining-deals-no-min-spend-promo-code-from-4-5-oct-2016-189259/ ]. 
LOCATION:
URL:https://singpromos.com/department-stores/groupon-5-to-25-off-all-beauty-leisure-services-dining-deals-no-min-spend-promo-code-from-4-5-oct-2016-189259/
END:VEVENT
END:VCALENDAR