BEGIN:VCALENDAR
PRODID:-//SINGPromos.com//NONSGML v1.0//EN
VERSION:2.0
CALSCALE:GREGORIAN
METHOD:PUBLISH
X-WR-CALNAME:SINGPromos.com
X-ORIGINAL-URL:https://singpromos.com
X-WR-CALDESC:Events for SINGPromos.com
BEGIN:VEVENT
DTSTART:20161003T000000
DTEND:20161017T235900
DTSTAMP:20260424T032131
CREATED:20161004T093937
LAST-MODIFIED:20161004T094403
UID:189265@https://singpromos.com
SUMMARY:Silkair: All-in Return Fares fr $159 to over 40 Destinations from 3 - 17 Oct 2016
DESCRIPTION:Tap your way to great getaways with the new SilkAir app. Download it now for exclusive deals and more. Exclusive Mastercard all-in return fares from $159 to Kuala Lumpur, Langkawi, Medan. Palembang and many more. For more information, visit [ https://singpromos.com/airlines-flights/silkair-all-in-return-fares-fr-159-to-over-40-destinations-from-3-17-oct-2016-189265/ ]. 
LOCATION:
URL:https://singpromos.com/airlines-flights/silkair-all-in-return-fares-fr-159-to-over-40-destinations-from-3-17-oct-2016-189265/
END:VEVENT
END:VCALENDAR