BEGIN:VCALENDAR
PRODID:-//SINGPromos.com//NONSGML v1.0//EN
VERSION:2.0
CALSCALE:GREGORIAN
METHOD:PUBLISH
X-WR-CALNAME:SINGPromos.com
X-ORIGINAL-URL:https://singpromos.com
X-WR-CALDESC:Events for SINGPromos.com
BEGIN:VEVENT
DTSTART:20161002T000000
DTEND:20161031T235900
DTSTAMP:20260419T230559
CREATED:20161004T153308
LAST-MODIFIED:20161004T143827
UID:189278@https://singpromos.com
SUMMARY:Mad for Garlic: 40% Off Food & Drink Items from 2 - 31 Oct 2016
DESCRIPTION:There are more reasons to visit Mad for Garlic this October as they offer you an irresistible 40% Discount on food and drink items. Show the eDM below to enjoy $20 off a minimum spend of $50, and $40 off a minimum of $100.. For more information, visit [ https://singpromos.com/dining-restaurants-food/mad-for-garlic-40-off-food-drink-items-from-2-31-oct-2016-189278/ ]. 
LOCATION:
URL:https://singpromos.com/dining-restaurants-food/mad-for-garlic-40-off-food-drink-items-from-2-31-oct-2016-189278/
END:VEVENT
END:VCALENDAR