BEGIN:VCALENDAR
PRODID:-//SINGPromos.com//NONSGML v1.0//EN
VERSION:2.0
CALSCALE:GREGORIAN
METHOD:PUBLISH
X-WR-CALNAME:SINGPromos.com
X-ORIGINAL-URL:https://singpromos.com
X-WR-CALDESC:Events for SINGPromos.com
BEGIN:VEVENT
DTSTART:20161005T000000
DTEND:20161006T235900
DTSTAMP:20260420T001330
CREATED:20161005T091409
LAST-MODIFIED:20161005T091409
UID:189343@https://singpromos.com
SUMMARY:Amazon UK: 24hr Deal - 40% Off Braun Silk-Expert Hair Removal at Home from 5 - 6 Oct 2016
DESCRIPTION:Braun Silk-expert is an IPL system which results in permanent visible hair removal in as little as four treatments. It works beneath the skin's surface by targeting the melanin in the hair follicle, helping to break the cycle of hair re-growth.. For more information, visit [ https://singpromos.com/personal-care/amazon-uk-24hr-deal-40-off-braun-silk-expert-hair-removal-at-home-from-5-6-oct-2016-189343/ ]. 
LOCATION:
URL:https://singpromos.com/personal-care/amazon-uk-24hr-deal-40-off-braun-silk-expert-hair-removal-at-home-from-5-6-oct-2016-189343/
END:VEVENT
END:VCALENDAR