BEGIN:VCALENDAR
PRODID:-//SINGPromos.com//NONSGML v1.0//EN
VERSION:2.0
CALSCALE:GREGORIAN
METHOD:PUBLISH
X-WR-CALNAME:SINGPromos.com
X-ORIGINAL-URL:https://singpromos.com
X-WR-CALDESC:Events for SINGPromos.com
BEGIN:VEVENT
DTSTART:20161005T000000
DTEND:20161011T235900
DTSTAMP:20260420T052615
CREATED:20161006T165059
LAST-MODIFIED:20161007T001649
UID:189503@https://singpromos.com
SUMMARY:Groupon: 15% OFF Coupon Code NO Min Spend for UOB Cardmembers from 5 - 11 Oct 2016
DESCRIPTION:Get 15% off any single deal with the promo code below at checkout at Groupon Singapore. For UOB cardmembers only. Customers can use the promo code to buy up to 1 single voucher from any category.. For more information, visit [ https://singpromos.com/department-stores/groupon-15-off-coupon-code-no-min-spend-for-uob-cardmembers-from-5-11-oct-2016-189503/ ]. 
LOCATION:
URL:https://singpromos.com/department-stores/groupon-15-off-coupon-code-no-min-spend-for-uob-cardmembers-from-5-11-oct-2016-189503/
END:VEVENT
END:VCALENDAR