BEGIN:VCALENDAR
PRODID:-//SINGPromos.com//NONSGML v1.0//EN
VERSION:2.0
CALSCALE:GREGORIAN
METHOD:PUBLISH
X-WR-CALNAME:SINGPromos.com
X-ORIGINAL-URL:https://singpromos.com
X-WR-CALDESC:Events for SINGPromos.com
BEGIN:VEVENT
DTSTART:20161007T000000
DTEND:20161008T235900
DTSTAMP:20260420T052636
CREATED:20161007T041550
LAST-MODIFIED:20161007T001621
UID:189541@https://singpromos.com
SUMMARY:Groupon: 8% OFF ALL Goods Deals NO Min Spend Promo Coupon Code from 7 - 8 Oct 2016
DESCRIPTION:Get 8% off ALL goods deals with the promo code below at checkout at Groupon Singapore. The promo code is valid on goods deals only.. For more information, visit [ https://singpromos.com/department-stores/groupon-8-off-all-goods-deals-no-min-spend-promo-coupon-code-from-7-8-oct-2016-189541/ ]. 
LOCATION:
URL:https://singpromos.com/department-stores/groupon-8-off-all-goods-deals-no-min-spend-promo-coupon-code-from-7-8-oct-2016-189541/
END:VEVENT
END:VCALENDAR